BEGIN:VCALENDAR
VERSION:2.0
PRODID:-//Library Market//iCal Export//EN
BEGIN:VEVENT
SUMMARY:Storytime
UID:14393
DTSTAMP:20260419T210600Z
DTSTART:20260804T150000Z
DTEND:20260804T160000Z
LOCATION:Leavenworth Public Library, 417 Spruce St, Leavenworth, KS 66048,
  United States
ROOM: East Room
DESCRIPTION:Join us for an interactive storytime with books, songs, and ac
 tivities that build early literacy skills like vocabulary, listening, and 
 social skills. Perfect for little ones to enjoy and learn in a fun, engagi
 ng environment!
URL:https://leavenworth.librarycalendar.com/event/storytime-14393
END:VEVENT
END:VCALENDAR
